BEGIN:VCALENDAR
VERSION:2.0
PRODID:-//Weiterbildung Ehrenamt - ECPv6.15.18//NONSGML v1.0//EN
CALSCALE:GREGORIAN
METHOD:PUBLISH
X-WR-CALNAME:Weiterbildung Ehrenamt
X-ORIGINAL-URL:https://weiterbildungsforum-ehrenamt.de
X-WR-CALDESC:Veranstaltungen für Weiterbildung Ehrenamt
REFRESH-INTERVAL;VALUE=DURATION:PT1H
X-Robots-Tag:noindex
X-PUBLISHED-TTL:PT1H
BEGIN:VTIMEZONE
TZID:Europe/Berlin
BEGIN:DAYLIGHT
TZOFFSETFROM:+0100
TZOFFSETTO:+0200
TZNAME:CEST
DTSTART:20250330T010000
END:DAYLIGHT
BEGIN:STANDARD
TZOFFSETFROM:+0200
TZOFFSETTO:+0100
TZNAME:CET
DTSTART:20251026T010000
END:STANDARD
BEGIN:DAYLIGHT
TZOFFSETFROM:+0100
TZOFFSETTO:+0200
TZNAME:CEST
DTSTART:20260329T010000
END:DAYLIGHT
BEGIN:STANDARD
TZOFFSETFROM:+0200
TZOFFSETTO:+0100
TZNAME:CET
DTSTART:20261025T010000
END:STANDARD
BEGIN:DAYLIGHT
TZOFFSETFROM:+0100
TZOFFSETTO:+0200
TZNAME:CEST
DTSTART:20270328T010000
END:DAYLIGHT
BEGIN:STANDARD
TZOFFSETFROM:+0200
TZOFFSETTO:+0100
TZNAME:CET
DTSTART:20271031T010000
END:STANDARD
END:VTIMEZONE
BEGIN:VEVENT
DTSTART;TZID=Europe/Berlin:20260604T180000
DTEND;TZID=Europe/Berlin:20260604T193000
DTSTAMP:20260419T145231
CREATED:20260202T090601Z
LAST-MODIFIED:20260202T090726Z
UID:3214-1780596000-1780601400@weiterbildungsforum-ehrenamt.de
SUMMARY:Digitales Fundraising
DESCRIPTION:Wann\n			\n				\n				\n				\n				\n				04.06.202618:00 – 19:30 Uhr\n			\n			\n				\n				\n				\n				\n				\n				\n				\n				\n				\n				Wo\n			\n				\n				\n				\n				\n				Online-Seminar über Zoom\n			\n			\n				\n				\n				\n				\n			\n				\n				\n				\n				\n				\n				\n				\n				\n				\n				\n				Referent\n			\n				\n				\n				\n				\n				Matthias Daberstiel \n			\n				\n				\n				\n				\n				weiterbildungsforum-ehrenamt.de0176 13714221 \n			\n			\n				\n				\n				\n				\n			\n				\n				\n				\n				\n				\n				\n				\n				\n				\n				\n				Online-Spendenformulare haben heute schon viele Vereine. Die ersten Erfolge stellen sich aber recht mühsam ein. In diesem Seminar werden Tools und Plattformen und ihre Vor- und Nachteile vorgestellt. Außerdem gibt es Tipps\, wie man über die eigene Website richtig um Spenden bittet und welche Fehler man besser vermeidet.Einen Einblick in das Thema digitales Fundraising gibt der Fundraising-Experte und Herausgeber des Fundraising-Magazins Matthias Daberstiel. \n			\n				Zur Anmeldung
URL:https://weiterbildungsforum-ehrenamt.de/event/digitales-fundraising/
LOCATION:virtual
CATEGORIES:Finanzen/ Förderung/ Spenden,Management und Organisation
ATTACH;FMTTYPE=image/jpeg:https://weiterbildungsforum-ehrenamt.de/wp-content/uploads/2024/06/money-6351791_1920.jpg
END:VEVENT
BEGIN:VEVENT
DTSTART;TZID=Europe/Berlin:20260616T180000
DTEND;TZID=Europe/Berlin:20260616T200000
DTSTAMP:20260419T145231
CREATED:20260216T092449Z
LAST-MODIFIED:20260216T092459Z
UID:3360-1781632800-1781640000@weiterbildungsforum-ehrenamt.de
SUMMARY:Personalmanagement
DESCRIPTION:Wann\n			\n				\n				\n				\n				\n				16.06.202618:00 – 20:00 Uhr\n			\n			\n				\n				\n				\n				\n				\n				\n				\n				\n				\n				Wo\n			\n				\n				\n				\n				\n				Online-Seminar über Zoom\n			\n			\n				\n				\n				\n				\n			\n				\n				\n				\n				\n				\n				\n				\n				\n				\n				\n				Referentin\n			\n				\n				\n				\n				\n				Melanie Hörenz-Pissang \n			\n				\n				\n				\n				\n				weiterbildungsforum-ehrenamt.de0176 13714221 \n			\n			\n				\n				\n				\n				\n			\n				\n				\n				\n				\n				\n				\n				\n				\n				\n				\n				Gespräche mit den ehrenamtlichen und hauptamtlichen Mitarbeitenden gehören zu den wichtigsten Aufgaben von Führungskräften oder Vorstandsmitgliedern. In diesem Seminar werden grundlegende Methoden für eine wertschätzende\, lösungsorientierte Kommunikation und Gesprächsführung (zum Beispiel Feedback\, Aktives Zuhören\, Ich-Botschaften\, Fragetechniken) vermittelt. Außerdem schauen wir uns an\, wie Sie die Motivation Ihrer Mitarbeitenden und ehrenamtlichen Engagierten fördern können. \n			\n				Zur Anmeldung
URL:https://weiterbildungsforum-ehrenamt.de/event/personalmanagement/
LOCATION:virtual
CATEGORIES:Kommunikation,Management und Organisation
ATTACH;FMTTYPE=image/jpeg:https://weiterbildungsforum-ehrenamt.de/wp-content/uploads/2023/10/AdobeStock_909791861-scaled.jpeg
END:VEVENT
BEGIN:VEVENT
DTSTART;TZID=Europe/Berlin:20260618T180000
DTEND;TZID=Europe/Berlin:20260618T200000
DTSTAMP:20260419T145231
CREATED:20260121T141923Z
LAST-MODIFIED:20260306T155202Z
UID:3089-1781805600-1781812800@weiterbildungsforum-ehrenamt.de
SUMMARY:Filmen ohne Budget
DESCRIPTION:Wann\n			\n				\n				\n				\n				\n				18.06.2026\n18:00 – 20:00 Uhr\n			\n			\n				\n				\n				\n				\n				\n				\n				\n				\n				\n				Wo\n			\n				\n				\n				\n				\n				Online-Seminar über Zoom\n			\n			\n				\n				\n				\n				\n			\n				\n				\n				\n				\n				\n				\n				\n				\n				\n				\n				Referent\n			\n				\n				\n				\n				\n				Max Schädlich \n			\n				\n				\n				\n				\n				weiterbildungsforum-ehrenamt.de\n0176 13714221 \n			\n			\n				\n				\n				\n				\n			\n				\n				\n				\n				\n				\n				\n				\n				\n				\n				\n				Erstellen Sie ansprechende Reels und Kurzvideos mühelos mit Ihrem Smartphone – ganz ohne teure Ausrüstung. Dieses praxisnahe Seminar vermittelt die Grundlagen der Smartphone-Videografie und hilft Ihnen und Ihrem Verein dabei\, Bewegtbild-Content einfach zu produzieren. Neben kostenlosen Apps\, die für den Schnitt genutzt werden können\, lernen Teilnehmende die wichtigsten Grundlagen des Storytelling für spannende Kurzvideos kennen. \n			\n				Zur Anmeldung
URL:https://weiterbildungsforum-ehrenamt.de/event/filmen-ohne-budget/
LOCATION:virtual
CATEGORIES:Digitale Kompetenzen,Öffentlichkeitsarbeit
ATTACH;FMTTYPE=image/jpeg:https://weiterbildungsforum-ehrenamt.de/wp-content/uploads/2025/04/camera-1869430_1920.jpg
END:VEVENT
BEGIN:VEVENT
DTSTART;TZID=Europe/Berlin:20260623T190000
DTEND;TZID=Europe/Berlin:20260623T203000
DTSTAMP:20260419T145231
CREATED:20260213T135941Z
LAST-MODIFIED:20260213T135941Z
UID:3332-1782241200-1782246600@weiterbildungsforum-ehrenamt.de
SUMMARY:Umfragemanagement
DESCRIPTION:Wann\n			\n				\n				\n				\n				\n				23.06.202619:00 – 20:30 Uhr\n			\n			\n				\n				\n				\n				\n				\n				\n				\n				\n				\n				Wo\n			\n				\n				\n				\n				\n				Online-Seminar über Zoom\n			\n			\n				\n				\n				\n				\n			\n				\n				\n				\n				\n				\n				\n				\n				\n				\n				\n				Referent\n			\n				\n				\n				\n				\n				Dr. Michael Beithe \n			\n				\n				\n				\n				\n				weiterbildungsforum-ehrenamt.de0176 13714221 \n			\n			\n				\n				\n				\n				\n			\n				\n				\n				\n				\n				\n				\n				\n				\n				\n				\n				Das Online-Seminar zeigt praxisnah\, wie Umfragen und Abstimmungen erstellt und eingesetzt werden können – z. B. zur Veranstaltungsplanung\, Projektbewertung oder Entscheidungsfindung. Die Teilnehmenden lernen außerdem\, Ergebnisse übersichtlich auszuwerten. Das Seminar richtet sich an Ehrenamtliche ohne Vorkenntnisse. \n			\n				Zur Anmeldung
URL:https://weiterbildungsforum-ehrenamt.de/event/umfragemanagement/
LOCATION:virtual
CATEGORIES:Digitale Kompetenzen
ATTACH;FMTTYPE=image/jpeg:https://weiterbildungsforum-ehrenamt.de/wp-content/uploads/2024/11/business-8676549_1920.jpg
END:VEVENT
END:VCALENDAR