BEGIN:VCALENDAR
VERSION:2.0
PRODID:-//Weiterbildung Ehrenamt - ECPv6.15.18//NONSGML v1.0//EN
CALSCALE:GREGORIAN
METHOD:PUBLISH
X-WR-CALNAME:Weiterbildung Ehrenamt
X-ORIGINAL-URL:https://weiterbildungsforum-ehrenamt.de
X-WR-CALDESC:Veranstaltungen für Weiterbildung Ehrenamt
REFRESH-INTERVAL;VALUE=DURATION:PT1H
X-Robots-Tag:noindex
X-PUBLISHED-TTL:PT1H
BEGIN:VTIMEZONE
TZID:Europe/Berlin
BEGIN:DAYLIGHT
TZOFFSETFROM:+0100
TZOFFSETTO:+0200
TZNAME:CEST
DTSTART:20250330T010000
END:DAYLIGHT
BEGIN:STANDARD
TZOFFSETFROM:+0200
TZOFFSETTO:+0100
TZNAME:CET
DTSTART:20251026T010000
END:STANDARD
BEGIN:DAYLIGHT
TZOFFSETFROM:+0100
TZOFFSETTO:+0200
TZNAME:CEST
DTSTART:20260329T010000
END:DAYLIGHT
BEGIN:STANDARD
TZOFFSETFROM:+0200
TZOFFSETTO:+0100
TZNAME:CET
DTSTART:20261025T010000
END:STANDARD
BEGIN:DAYLIGHT
TZOFFSETFROM:+0100
TZOFFSETTO:+0200
TZNAME:CEST
DTSTART:20270328T010000
END:DAYLIGHT
BEGIN:STANDARD
TZOFFSETFROM:+0200
TZOFFSETTO:+0100
TZNAME:CET
DTSTART:20271031T010000
END:STANDARD
END:VTIMEZONE
BEGIN:VEVENT
DTSTART;TZID=Europe/Berlin:20260604T180000
DTEND;TZID=Europe/Berlin:20260604T193000
DTSTAMP:20260419T163706
CREATED:20260202T090601Z
LAST-MODIFIED:20260202T090726Z
UID:3214-1780596000-1780601400@weiterbildungsforum-ehrenamt.de
SUMMARY:Digitales Fundraising
DESCRIPTION:Wann\n			\n				\n				\n				\n				\n				04.06.202618:00 – 19:30 Uhr\n			\n			\n				\n				\n				\n				\n				\n				\n				\n				\n				\n				Wo\n			\n				\n				\n				\n				\n				Online-Seminar über Zoom\n			\n			\n				\n				\n				\n				\n			\n				\n				\n				\n				\n				\n				\n				\n				\n				\n				\n				Referent\n			\n				\n				\n				\n				\n				Matthias Daberstiel \n			\n				\n				\n				\n				\n				weiterbildungsforum-ehrenamt.de0176 13714221 \n			\n			\n				\n				\n				\n				\n			\n				\n				\n				\n				\n				\n				\n				\n				\n				\n				\n				Online-Spendenformulare haben heute schon viele Vereine. Die ersten Erfolge stellen sich aber recht mühsam ein. In diesem Seminar werden Tools und Plattformen und ihre Vor- und Nachteile vorgestellt. Außerdem gibt es Tipps\, wie man über die eigene Website richtig um Spenden bittet und welche Fehler man besser vermeidet.Einen Einblick in das Thema digitales Fundraising gibt der Fundraising-Experte und Herausgeber des Fundraising-Magazins Matthias Daberstiel. \n			\n				Zur Anmeldung
URL:https://weiterbildungsforum-ehrenamt.de/event/digitales-fundraising/
LOCATION:virtual
CATEGORIES:Finanzen/ Förderung/ Spenden,Management und Organisation
ATTACH;FMTTYPE=image/jpeg:https://weiterbildungsforum-ehrenamt.de/wp-content/uploads/2024/06/money-6351791_1920.jpg
END:VEVENT
END:VCALENDAR