BEGIN:VCALENDAR
VERSION:2.0
PRODID:-//Weiterbildung Ehrenamt - ECPv6.15.18//NONSGML v1.0//EN
CALSCALE:GREGORIAN
METHOD:PUBLISH
X-WR-CALNAME:Weiterbildung Ehrenamt
X-ORIGINAL-URL:https://weiterbildungsforum-ehrenamt.de
X-WR-CALDESC:Veranstaltungen für Weiterbildung Ehrenamt
REFRESH-INTERVAL;VALUE=DURATION:PT1H
X-Robots-Tag:noindex
X-PUBLISHED-TTL:PT1H
BEGIN:VTIMEZONE
TZID:Europe/Berlin
BEGIN:DAYLIGHT
TZOFFSETFROM:+0100
TZOFFSETTO:+0200
TZNAME:CEST
DTSTART:20250330T010000
END:DAYLIGHT
BEGIN:STANDARD
TZOFFSETFROM:+0200
TZOFFSETTO:+0100
TZNAME:CET
DTSTART:20251026T010000
END:STANDARD
BEGIN:DAYLIGHT
TZOFFSETFROM:+0100
TZOFFSETTO:+0200
TZNAME:CEST
DTSTART:20260329T010000
END:DAYLIGHT
BEGIN:STANDARD
TZOFFSETFROM:+0200
TZOFFSETTO:+0100
TZNAME:CET
DTSTART:20261025T010000
END:STANDARD
BEGIN:DAYLIGHT
TZOFFSETFROM:+0100
TZOFFSETTO:+0200
TZNAME:CEST
DTSTART:20270328T010000
END:DAYLIGHT
BEGIN:STANDARD
TZOFFSETFROM:+0200
TZOFFSETTO:+0100
TZNAME:CET
DTSTART:20271031T010000
END:STANDARD
END:VTIMEZONE
BEGIN:VEVENT
DTSTART;TZID=Europe/Berlin:20260421T180000
DTEND;TZID=Europe/Berlin:20260421T200000
DTSTAMP:20260421T020831
CREATED:20260121T135144Z
LAST-MODIFIED:20260306T155234Z
UID:3079-1776794400-1776801600@weiterbildungsforum-ehrenamt.de
SUMMARY:Der neue Vereinsassistent
DESCRIPTION:Wann\n			\n				\n				\n				\n				\n				21.04.2026\n18:00 – 20:00 Uhr\n			\n			\n				\n				\n				\n				\n				\n				\n				\n				\n				\n				Wo\n			\n				\n				\n				\n				\n				Online-Seminar über Zoom\n			\n			\n				\n				\n				\n				\n			\n				\n				\n				\n				\n				\n				\n				\n				\n				\n				\n				Referent\n			\n				\n				\n				\n				\n				Max Schädlich \n			\n				\n				\n				\n				\n				weiterbildungsforum-ehrenamt.de\n0176 13714221 \n			\n			\n				\n				\n				\n				\n			\n				\n				\n				\n				\n				\n				\n				\n				\n				\n				\n				Künstliche Intelligenz (KI) bietet Vereinen völlig neue Möglichkeiten – von automatisierter Mitgliederkommunikation bis hin zur Optimierung von Fundraising-Strategien. Doch welche Chancen ergeben sich konkret für den Vereinsalltag? Welche Risiken und ethischen Fragen müssen bedacht werden? In diesem Seminar erhalten Sie praxisnahe Einblicke in den Einsatz von KI für Vereine. Es wird gezeigt\, wie Sie KI sinnvoll nutzen können\, welche Werkzeuge Ihnen helfen und worauf Sie achten sollten\, um Risiken zu minimieren. \n  \n			\n				Zur Anmeldung
URL:https://weiterbildungsforum-ehrenamt.de/event/der-neue-vereinsassistent/
LOCATION:virtual
CATEGORIES:Digitale Kompetenzen,Öffentlichkeitsarbeit
ATTACH;FMTTYPE=image/jpeg:https://weiterbildungsforum-ehrenamt.de/wp-content/uploads/2023/10/hands-1167618-scaled.jpg
END:VEVENT
END:VCALENDAR