BEGIN:VCALENDAR
VERSION:2.0
PRODID:-//Weiterbildung Ehrenamt - ECPv6.15.18//NONSGML v1.0//EN
CALSCALE:GREGORIAN
METHOD:PUBLISH
X-ORIGINAL-URL:https://weiterbildungsforum-ehrenamt.de
X-WR-CALDESC:Veranstaltungen für Weiterbildung Ehrenamt
REFRESH-INTERVAL;VALUE=DURATION:PT1H
X-Robots-Tag:noindex
X-PUBLISHED-TTL:PT1H
BEGIN:VTIMEZONE
TZID:Europe/Berlin
BEGIN:DAYLIGHT
TZOFFSETFROM:+0100
TZOFFSETTO:+0200
TZNAME:CEST
DTSTART:20250330T010000
END:DAYLIGHT
BEGIN:STANDARD
TZOFFSETFROM:+0200
TZOFFSETTO:+0100
TZNAME:CET
DTSTART:20251026T010000
END:STANDARD
BEGIN:DAYLIGHT
TZOFFSETFROM:+0100
TZOFFSETTO:+0200
TZNAME:CEST
DTSTART:20260329T010000
END:DAYLIGHT
BEGIN:STANDARD
TZOFFSETFROM:+0200
TZOFFSETTO:+0100
TZNAME:CET
DTSTART:20261025T010000
END:STANDARD
BEGIN:DAYLIGHT
TZOFFSETFROM:+0100
TZOFFSETTO:+0200
TZNAME:CEST
DTSTART:20270328T010000
END:DAYLIGHT
BEGIN:STANDARD
TZOFFSETFROM:+0200
TZOFFSETTO:+0100
TZNAME:CET
DTSTART:20271031T010000
END:STANDARD
END:VTIMEZONE
BEGIN:VEVENT
DTSTART;TZID=Europe/Berlin:20260324T180000
DTEND;TZID=Europe/Berlin:20260324T193000
DTSTAMP:20260419T153136
CREATED:20260122T084345Z
LAST-MODIFIED:20260122T084345Z
UID:3125-1774375200-1774380600@weiterbildungsforum-ehrenamt.de
SUMMARY:Fundraising-Planung
DESCRIPTION:Wann\n			\n				\n				\n				\n				\n				24.03.202618:00 – 19:30 Uhr\n			\n			\n				\n				\n				\n				\n				\n				\n				\n				\n				\n				Wo\n			\n				\n				\n				\n				\n				Online-Seminar über Zoom\n			\n			\n				\n				\n				\n				\n			\n				\n				\n				\n				\n				\n				\n				\n				\n				\n				\n				Referent\n			\n				\n				\n				\n				\n				Matthias Daberstiel \n			\n				\n				\n				\n				\n				weiterbildungsforum-ehrenamt.de0176 13714221 \n			\n			\n				\n				\n				\n				\n			\n				\n				\n				\n				\n				\n				\n				\n				\n				\n				\n				So viele Aktionen und so wenig Zeit? Wenn das Ihre Frage ist\, sind sie hier richtig. Die Planung des Fundraisings im Jahr hängt von Vielen Faktoren ab. Ressourcen wie Zeit\, Budget und Hilfe spielen dabei eine große Rolle aber auch Zielgruppen und Erfolgsaussichten. Außerdem sollte man auch neue Dinge probieren und testen. Kurzum\, das Jahr braucht einen Plan und dieser Kurs will Sie dabei unterstützen. \n			\n				Zur Anmeldung
URL:https://weiterbildungsforum-ehrenamt.de/event/fundraising-planung/
LOCATION:virtual
CATEGORIES:Finanzen/ Förderung/ Spenden,Management und Organisation
ATTACH;FMTTYPE=image/jpeg:https://weiterbildungsforum-ehrenamt.de/wp-content/uploads/2026/01/money-2696229_1280.jpg
END:VEVENT
END:VCALENDAR