BEGIN:VCALENDAR
VERSION:2.0
PRODID:-//Weiterbildung Ehrenamt - ECPv6.15.18//NONSGML v1.0//EN
CALSCALE:GREGORIAN
METHOD:PUBLISH
X-ORIGINAL-URL:https://weiterbildungsforum-ehrenamt.de
X-WR-CALDESC:Veranstaltungen für Weiterbildung Ehrenamt
REFRESH-INTERVAL;VALUE=DURATION:PT1H
X-Robots-Tag:noindex
X-PUBLISHED-TTL:PT1H
BEGIN:VTIMEZONE
TZID:Europe/Berlin
BEGIN:DAYLIGHT
TZOFFSETFROM:+0100
TZOFFSETTO:+0200
TZNAME:CEST
DTSTART:20250330T010000
END:DAYLIGHT
BEGIN:STANDARD
TZOFFSETFROM:+0200
TZOFFSETTO:+0100
TZNAME:CET
DTSTART:20251026T010000
END:STANDARD
BEGIN:DAYLIGHT
TZOFFSETFROM:+0100
TZOFFSETTO:+0200
TZNAME:CEST
DTSTART:20260329T010000
END:DAYLIGHT
BEGIN:STANDARD
TZOFFSETFROM:+0200
TZOFFSETTO:+0100
TZNAME:CET
DTSTART:20261025T010000
END:STANDARD
BEGIN:DAYLIGHT
TZOFFSETFROM:+0100
TZOFFSETTO:+0200
TZNAME:CEST
DTSTART:20270328T010000
END:DAYLIGHT
BEGIN:STANDARD
TZOFFSETFROM:+0200
TZOFFSETTO:+0100
TZNAME:CET
DTSTART:20271031T010000
END:STANDARD
END:VTIMEZONE
BEGIN:VEVENT
DTSTART;TZID=Europe/Berlin:20260312T173000
DTEND;TZID=Europe/Berlin:20260312T180000
DTSTAMP:20260419T153244
CREATED:20260217T143959Z
LAST-MODIFIED:20260220T183354Z
UID:3395-1773336600-1773338400@weiterbildungsforum-ehrenamt.de
SUMMARY:Mitmachangebot für Ehrenamtliche
DESCRIPTION:Wann\n			\n				\n				\n				\n				\n				12.03.202617:30 – 18:00 Uhr\n			\n			\n				\n				\n				\n				\n				\n				\n				\n				\n				\n				Wo\n			\n				\n				\n				\n				\n				Infoveranstaltung über Zoom\n			\n			\n				\n				\n				\n				\n			\n				\n				\n				\n				\n				\n				\n				\n				\n				\n				\n				Ansprechpartnerin\n			\n				\n				\n				\n				\n				Jana Wagner \n			\n				\n				\n				\n				\n				\n			\n				\n				\n				\n				\n				 j.wagner@aktion-zivilcourage.de+49 176 1371 3886 \n			\n			\n				\n				\n				\n				\n			\n				\n				\n				\n				\n				\n				\n				\n				\n				\n				\n				3Universität muss nicht nur theoretisch sein – deshalb laden wir Sie zu einem kurzen Online-Interview ein\, das deutschen und tschechischen Studierenden Ihr Ehrenamt näherbringt. Die Studierenden kommen von der TU Dresden sowie der tschechischen Universität UJEP und nehmen an binationalen Seminaren teil\, in denen sie einander über die Grenze hinweg kennenlernen und sich politikwissenschaftlichen Themen mit praxisorientierten Methoden nähern.   \nFür dieses Semester lautet das Thema „Demokratische Teilhabe vor Ort: Empowerment und lokale Beteiligungsmöglichkeiten“ und hierfür suchen wir ganz unterschiedliche Akteure aus Kirche\, freiwilliger Feuerwehr\, Gesangsvereinen\, Sportvereinen\, lokalen Initiativen\, Umweltgruppen oder sozialen Organisationen und führen mit Ehrenamtlichen kurze Online-Interviews durch\, aus denen dann ein vielfältiges Bild des Engagements auf deutscher und tschechischer Seite entsteht\, mit dem die Studierenden sich die Thematik erschließen können. Darüber hinaus besteht auch die Möglichkeit\, dass wir die Videos über unsere Kanäle der Öffentlichkeitsarbeit veröffentlichen und somit Reichweite für das Engagement bei Ihnen schaffen. \n Wir freuen uns sehr\, wenn Sie Interesse haben und wir das ehrenamtliche Engagement in Ihrer Organisation einem weiteren Personenkreis vorstellen können. Die Kontaktaufnahme hierfür muss spätestens Ende März erfolgen. \nWenn Sie mehr über das Projekt erfahren wollen\, finden Sie hier weitere Informationen:https://www.sn-cz2027.eu/de/projekte/prioritat-3-bildung-lebenslanges-lernen-kultur-und-tourismus/100736150_redemo \nAm 12. März 2026 findet um 17:30 Uhr eine Informationsveranstaltung statt\, bei der Sie gerne Fragen klären können. \n			\n				Zur Anmeldung
URL:https://weiterbildungsforum-ehrenamt.de/event/mitmachangebot-fuer-ehrenamtliche/
CATEGORIES:Online,Vernetzung
ATTACH;FMTTYPE=image/png:https://weiterbildungsforum-ehrenamt.de/wp-content/uploads/2026/02/Screenshot-2026-02-13-at-13-29-10-Instagram-e1771339561575.png
END:VEVENT
BEGIN:VEVENT
DTSTART;TZID=Europe/Berlin:20260312T180000
DTEND;TZID=Europe/Berlin:20260312T200000
DTSTAMP:20260419T153244
CREATED:20260119T142209Z
LAST-MODIFIED:20260306T155329Z
UID:2857-1773338400-1773345600@weiterbildungsforum-ehrenamt.de
SUMMARY:Design für Nicht-Designer
DESCRIPTION:Canva-Grundlagen\n			\n			\n				\n				\n				\n				\n			\n				\n				\n				\n				\n				\n				\n				\n				\n				\n				\n				Wann\n			\n				\n				\n				\n				\n				12.03.2026\n18:00 – 20:00 Uhr\n			\n			\n				\n				\n				\n				\n				\n				\n				\n				\n				\n				Wo\n			\n				\n				\n				\n				\n				Online-Seminar über Zoom\n			\n			\n				\n				\n				\n				\n			\n				\n				\n				\n				\n				\n				\n				\n				\n				\n				\n				Referent\n			\n				\n				\n				\n				\n				Max Schädlich \n			\n				\n				\n				\n				\n				\n			\n				\n				\n				\n				\n				  \nhttps://weiterbildungsforum-ehrenamt.de/ \n0176 1371 4221 \n			\n			\n				\n				\n				\n				\n			\n				\n				\n				\n				\n				\n				\n				\n				\n				\n				\n				Canva ist eine Plattform\, mit der man visuelle Inhalte erstellen kann. Wo ist es sinnvoll und gewinnbringend Canva einzusetzen? Wie kann man Werbung und weitere Produkte für die Vereinsarbeit anhand von Canva anfertigen? Das Seminar bietet einen Einblick in das Thema sowie praktische Beispiele. \n			\n				\n				\n				\n				\n				\n			\n				\n				\n				\n				\n				\n			\n				\n				\n				\n				\n				\n			\n				\n				\n				\n				\n				\n			\n				\n				\n				\n				\n				\n			\n				Zur Anmeldung
URL:https://weiterbildungsforum-ehrenamt.de/event/design-fuer-nicht-designer-canva-grundlagen/
LOCATION:virtual
CATEGORIES:Digitale Kompetenzen,Öffentlichkeitsarbeit,Online
ATTACH;FMTTYPE=image/jpeg:https://weiterbildungsforum-ehrenamt.de/wp-content/uploads/2023/10/social-media-4698431-scaled.jpg
END:VEVENT
END:VCALENDAR