BEGIN:VCALENDAR
VERSION:2.0
PRODID:-//Weiterbildung Ehrenamt - ECPv6.15.18//NONSGML v1.0//EN
CALSCALE:GREGORIAN
METHOD:PUBLISH
X-ORIGINAL-URL:https://weiterbildungsforum-ehrenamt.de
X-WR-CALDESC:Veranstaltungen für Weiterbildung Ehrenamt
REFRESH-INTERVAL;VALUE=DURATION:PT1H
X-Robots-Tag:noindex
X-PUBLISHED-TTL:PT1H
BEGIN:VTIMEZONE
TZID:Europe/Berlin
BEGIN:DAYLIGHT
TZOFFSETFROM:+0100
TZOFFSETTO:+0200
TZNAME:CEST
DTSTART:20250330T010000
END:DAYLIGHT
BEGIN:STANDARD
TZOFFSETFROM:+0200
TZOFFSETTO:+0100
TZNAME:CET
DTSTART:20251026T010000
END:STANDARD
BEGIN:DAYLIGHT
TZOFFSETFROM:+0100
TZOFFSETTO:+0200
TZNAME:CEST
DTSTART:20260329T010000
END:DAYLIGHT
BEGIN:STANDARD
TZOFFSETFROM:+0200
TZOFFSETTO:+0100
TZNAME:CET
DTSTART:20261025T010000
END:STANDARD
BEGIN:DAYLIGHT
TZOFFSETFROM:+0100
TZOFFSETTO:+0200
TZNAME:CEST
DTSTART:20270328T010000
END:DAYLIGHT
BEGIN:STANDARD
TZOFFSETFROM:+0200
TZOFFSETTO:+0100
TZNAME:CET
DTSTART:20271031T010000
END:STANDARD
END:VTIMEZONE
BEGIN:VEVENT
DTSTART;TZID=Europe/Berlin:20260311T180000
DTEND;TZID=Europe/Berlin:20260311T200000
DTSTAMP:20260419T152141
CREATED:20260120T160320Z
LAST-MODIFIED:20260203T173915Z
UID:3048-1773252000-1773259200@weiterbildungsforum-ehrenamt.de
SUMMARY:Grundlagen der Moderation
DESCRIPTION:Wann\n			\n				\n				\n				\n				\n				11.03.202618:00 – 20:00 Uhr\n			\n			\n				\n				\n				\n				\n				\n				\n				\n				\n				\n				Wo\n			\n				\n				\n				\n				\n				Online-Seminar über Zoom\n			\n			\n				\n				\n				\n				\n			\n				\n				\n				\n				\n				\n				\n				\n				\n				\n				\n				Referentin\n			\n				\n				\n				\n				\n				Melanie Hörenz-Pissang \n			\n				\n				\n				\n				\n				https://weiterbildungsforum-ehrenamt.de \n0176 13 71 42 55 \n			\n			\n				\n				\n				\n				\n			\n				\n				\n				\n				\n				\n				\n				\n				\n				\n				\n				Vorstandssitzungen und Besprechungen ohne jegliche Agenda und Moderation führen häufig zu keinem Ergebnis und sind Zeitverschwendung. Dieses Seminar liefert Tipps und Methoden für die Gestaltung von effektiven Sitzungen und die Erzielung von Ergebnissen unter Einbeziehung aller Teilnehmer*innen. Sie erlernen Grundkenntnisse zum Thema Moderation und welche einfachen Techniken Sie anwenden können\, um effektive Gesprächsrunden zu gestalten. \n			\n				Zur Anmeldung
URL:https://weiterbildungsforum-ehrenamt.de/event/grundlagen-der-moderation/
LOCATION:virtual
CATEGORIES:Kommunikation,Management und Organisation,Online
ATTACH;FMTTYPE=image/jpeg:https://weiterbildungsforum-ehrenamt.de/wp-content/uploads/2026/01/corporate-training-10046033_1280.jpg
ORGANIZER;CN="Aktion Zivilcourage e. V.":MAILTO:weiterbildung-ehrenamt@aktion-zivilcourage.de
END:VEVENT
END:VCALENDAR