BEGIN:VCALENDAR
VERSION:2.0
PRODID:-//Weiterbildung Ehrenamt - ECPv6.15.18//NONSGML v1.0//EN
CALSCALE:GREGORIAN
METHOD:PUBLISH
X-ORIGINAL-URL:https://weiterbildungsforum-ehrenamt.de
X-WR-CALDESC:Veranstaltungen für Weiterbildung Ehrenamt
REFRESH-INTERVAL;VALUE=DURATION:PT1H
X-Robots-Tag:noindex
X-PUBLISHED-TTL:PT1H
BEGIN:VTIMEZONE
TZID:Europe/Berlin
BEGIN:DAYLIGHT
TZOFFSETFROM:+0100
TZOFFSETTO:+0200
TZNAME:CEST
DTSTART:20250330T010000
END:DAYLIGHT
BEGIN:STANDARD
TZOFFSETFROM:+0200
TZOFFSETTO:+0100
TZNAME:CET
DTSTART:20251026T010000
END:STANDARD
BEGIN:DAYLIGHT
TZOFFSETFROM:+0100
TZOFFSETTO:+0200
TZNAME:CEST
DTSTART:20260329T010000
END:DAYLIGHT
BEGIN:STANDARD
TZOFFSETFROM:+0200
TZOFFSETTO:+0100
TZNAME:CET
DTSTART:20261025T010000
END:STANDARD
BEGIN:DAYLIGHT
TZOFFSETFROM:+0100
TZOFFSETTO:+0200
TZNAME:CEST
DTSTART:20270328T010000
END:DAYLIGHT
BEGIN:STANDARD
TZOFFSETFROM:+0200
TZOFFSETTO:+0100
TZNAME:CET
DTSTART:20271031T010000
END:STANDARD
END:VTIMEZONE
BEGIN:VEVENT
DTSTART;TZID=Europe/Berlin:20260303T153000
DTEND;TZID=Europe/Berlin:20260303T183000
DTSTAMP:20260419T153335
CREATED:20260120T150751Z
LAST-MODIFIED:20260120T151044Z
UID:3018-1772551800-1772562600@weiterbildungsforum-ehrenamt.de
SUMMARY:Psychische Gesundheit stärken
DESCRIPTION:Wann\n			\n				\n				\n				\n				\n				03.03.202615:30 – 18:30 Uhr\n			\n			\n				\n				\n				\n				\n				\n				\n				\n				\n				\n				Wo\n			\n				\n				\n				\n				\n				Vor-Ort-Seminar in Freital\n			\n			\n				\n				\n				\n				\n			\n				\n				\n				\n				\n				\n				\n				\n				\n				\n				\n				Referentin\n			\n				\n				\n				\n				\n				Karina Handel \n			\n				\n				\n				\n				\n				https://weiterbildungsforum-ehrenamt.de \n0176 13 71 42 55 \n			\n			\n				\n				\n				\n				\n			\n				\n				\n				\n				\n				\n				\n				\n				\n				\n				\n				Aggressives Verhalten bei älteren Menschen hat häufig tiefere Ursachen wie Angst\, Schmerzen oder Überforderung. In diesem praxisnahen Vor-Ort-Seminar lernen ehrenamtliche Seniorenhelferinnen und Seniorenhelfer sowie Alltagshelferinnen und Alltagshelfer\, solche Signale frühzeitig zu erkennen\, empathisch zu verstehen und angemessen darauf zu reagieren\, ohne vorschnell zu urteilen. Im Fokus stehen leicht umsetzbare Strategien für den Alltag: klare Kommunikation\, Ruhe bewahren\, den nötigen Abstand halten\, eigene Grenzen wahren und rechtzeitig Unterstützung einholen. Dieses Seminar richtet sich an alle\, die ältere Menschen begleiten\, sei es im Ehrenamt\, in der Nachbarschaftshilfe oder in der familiären Pflege\, und praxisnahes Handwerkszeug für herausfordernde Situationen erlernen möchten.  \n			\n				Zur Anmeldung
URL:https://weiterbildungsforum-ehrenamt.de/event/psychische-gesundheit-staerken/
LOCATION:„Regenbogen“ Familienzentrum e. V.\, Poststraße 13\, Freital\, 01705
CATEGORIES:Selbstfürsorge,Soziale Kompetenzen,Vor Ort
ATTACH;FMTTYPE=image/jpeg:https://weiterbildungsforum-ehrenamt.de/wp-content/uploads/2026/01/grandmother-5735643_1280-e1768921820899.jpg
END:VEVENT
BEGIN:VEVENT
DTSTART;TZID=Europe/Berlin:20260303T180000
DTEND;TZID=Europe/Berlin:20260303T200000
DTSTAMP:20260419T153335
CREATED:20260120T154002Z
LAST-MODIFIED:20260120T154002Z
UID:3041-1772560800-1772568000@weiterbildungsforum-ehrenamt.de
SUMMARY:Einführung Finanzen im Verein
DESCRIPTION:Wann\n			\n				\n				\n				\n				\n				03.03.202618:00 – 20:00 Uhr\n			\n			\n				\n				\n				\n				\n				\n				\n				\n				\n				\n				Wo\n			\n				\n				\n				\n				\n				Online-Seminar über Zoom\n			\n			\n				\n				\n				\n				\n			\n				\n				\n				\n				\n				\n				\n				\n				\n				\n				\n				Referentin\n			\n				\n				\n				\n				\n				Melanie Hörenz-Pissang \n			\n				\n				\n				\n				\n				https://weiterbildungsforum-ehrenamt.de \n0176 13 71 42 55 \n			\n			\n				\n				\n				\n				\n			\n				\n				\n				\n				\n				\n				\n				\n				\n				\n				\n				Jeder Verein ist gesetzlich zur Buchhaltung verpflichtet. Dies ergibt sich zuallererst aus dem Bürgerlichen Gesetzbuch (BGB)\, das jeden Verein oder besser seinen Vorstand zur finanziellen Rechenschaft gegenüber den Mitgliedern verpflichtet. Hinzu kommen weitere Verpflichtungen aus dem Steuerrecht für gemeinnützige oder wirtschaftlich tätige Vereine und förderrechtliche Pflichten bei bestimmten Zuwendungen für einen Verein. Das Seminar gibt einen kurzen Überblick zu den Themen Buchhaltung und Steuern im Verein. \n			\n				Zur Anmeldung
URL:https://weiterbildungsforum-ehrenamt.de/event/einfuehrung-finanzen-im-verein/
LOCATION:virtual
CATEGORIES:Finanzen/ Förderung/ Spenden,Online,Recht/ Vereinsrecht
ATTACH;FMTTYPE=image/jpeg:https://weiterbildungsforum-ehrenamt.de/wp-content/uploads/2026/01/money-2696229_1280.jpg
ORGANIZER;CN="Aktion Zivilcourage e. V.":MAILTO:weiterbildung-ehrenamt@aktion-zivilcourage.de
END:VEVENT
END:VCALENDAR