BEGIN:VCALENDAR
VERSION:2.0
PRODID:-//Weiterbildung Ehrenamt - ECPv6.15.18//NONSGML v1.0//EN
CALSCALE:GREGORIAN
METHOD:PUBLISH
X-WR-CALNAME:Weiterbildung Ehrenamt
X-ORIGINAL-URL:https://weiterbildungsforum-ehrenamt.de
X-WR-CALDESC:Veranstaltungen für Weiterbildung Ehrenamt
REFRESH-INTERVAL;VALUE=DURATION:PT1H
X-Robots-Tag:noindex
X-PUBLISHED-TTL:PT1H
BEGIN:VTIMEZONE
TZID:Europe/Berlin
BEGIN:DAYLIGHT
TZOFFSETFROM:+0100
TZOFFSETTO:+0200
TZNAME:CEST
DTSTART:20250330T010000
END:DAYLIGHT
BEGIN:STANDARD
TZOFFSETFROM:+0200
TZOFFSETTO:+0100
TZNAME:CET
DTSTART:20251026T010000
END:STANDARD
BEGIN:DAYLIGHT
TZOFFSETFROM:+0100
TZOFFSETTO:+0200
TZNAME:CEST
DTSTART:20260329T010000
END:DAYLIGHT
BEGIN:STANDARD
TZOFFSETFROM:+0200
TZOFFSETTO:+0100
TZNAME:CET
DTSTART:20261025T010000
END:STANDARD
BEGIN:DAYLIGHT
TZOFFSETFROM:+0100
TZOFFSETTO:+0200
TZNAME:CEST
DTSTART:20270328T010000
END:DAYLIGHT
BEGIN:STANDARD
TZOFFSETFROM:+0200
TZOFFSETTO:+0100
TZNAME:CET
DTSTART:20271031T010000
END:STANDARD
END:VTIMEZONE
BEGIN:VEVENT
DTSTART;TZID=Europe/Berlin:20260205T180000
DTEND;TZID=Europe/Berlin:20260205T193000
DTSTAMP:20260419T181315
CREATED:20260120T133252Z
LAST-MODIFIED:20260120T133252Z
UID:2954-1770314400-1770319800@weiterbildungsforum-ehrenamt.de
SUMMARY:Öffentlichkeitsarbeit und Pressemitteilungen für Vereine
DESCRIPTION:Wann\n			\n				\n				\n				\n				\n				05.02.202617:00 – 19:00 Uhr\n			\n			\n				\n				\n				\n				\n				\n				\n				\n				\n				\n				Wo\n			\n				\n				\n				\n				\n				Online-Seminar über Zoom\n			\n			\n				\n				\n				\n				\n			\n				\n				\n				\n				\n				\n				\n				\n				\n				\n				\n				Referentin\n			\n				\n				\n				\n				\n				Magdalena Selbig \n			\n				\n				\n				\n				\n				\n			\n				\n				\n				\n				\n				https://weiterbildungsforum-ehrenamt.de \n0176 13 71 42 55 \n			\n			\n				\n				\n				\n				\n			\n				\n				\n				\n				\n				\n				\n				\n				\n				\n				\n				Ob Vereinsfest\, Jubiläum oder neue Initiative – wer Gutes tut\, sollte auch darüber sprechen. In diesem Online-Seminar erfahren Engagierte\, wie sie ihre Themen so aufbereiten\, dass sie von Redaktionen gern aufgegriffen werden.Nach einer Einführung in die wichtigsten Elemente erfolgreicher Pressearbeit folgt eine praktische Übung\, in der das Erlernte angewendet wird. Wer möchte\, kann dafür eigene Pressemeldungen oder Entwürfe mitbringen.Zum Abschluss erhalten die Teilnehmenden praxisnahe Tipps zum Aufbau und zur Pflege von Kontakten zu Journalistinnen und Journalisten für eine erfolgreiche Öffentlichkeitsarbeit im Verein. \n			\n				Zur Anmeldung
URL:https://weiterbildungsforum-ehrenamt.de/event/oeffentlichkeitsarbeit-und-pressemitteilungen-fuer-vereine/
LOCATION:virtual
CATEGORIES:Öffentlichkeitsarbeit,Online
ATTACH;FMTTYPE=image/jpeg:https://weiterbildungsforum-ehrenamt.de/wp-content/uploads/2024/07/workplace-4155023_1280.jpg
END:VEVENT
END:VCALENDAR