BEGIN:VCALENDAR
VERSION:2.0
PRODID:-//Weiterbildung Ehrenamt - ECPv6.15.18//NONSGML v1.0//EN
CALSCALE:GREGORIAN
METHOD:PUBLISH
X-WR-CALNAME:Weiterbildung Ehrenamt
X-ORIGINAL-URL:https://weiterbildungsforum-ehrenamt.de
X-WR-CALDESC:Veranstaltungen für Weiterbildung Ehrenamt
REFRESH-INTERVAL;VALUE=DURATION:PT1H
X-Robots-Tag:noindex
X-PUBLISHED-TTL:PT1H
BEGIN:VTIMEZONE
TZID:Europe/Berlin
BEGIN:DAYLIGHT
TZOFFSETFROM:+0100
TZOFFSETTO:+0200
TZNAME:CEST
DTSTART:20250330T010000
END:DAYLIGHT
BEGIN:STANDARD
TZOFFSETFROM:+0200
TZOFFSETTO:+0100
TZNAME:CET
DTSTART:20251026T010000
END:STANDARD
BEGIN:DAYLIGHT
TZOFFSETFROM:+0100
TZOFFSETTO:+0200
TZNAME:CEST
DTSTART:20260329T010000
END:DAYLIGHT
BEGIN:STANDARD
TZOFFSETFROM:+0200
TZOFFSETTO:+0100
TZNAME:CET
DTSTART:20261025T010000
END:STANDARD
BEGIN:DAYLIGHT
TZOFFSETFROM:+0100
TZOFFSETTO:+0200
TZNAME:CEST
DTSTART:20270328T010000
END:DAYLIGHT
BEGIN:STANDARD
TZOFFSETFROM:+0200
TZOFFSETTO:+0100
TZNAME:CET
DTSTART:20271031T010000
END:STANDARD
END:VTIMEZONE
BEGIN:VEVENT
DTSTART;TZID=Europe/Berlin:20260129T190000
DTEND;TZID=Europe/Berlin:20260129T203000
DTSTAMP:20260419T181322
CREATED:20260119T095726Z
LAST-MODIFIED:20260119T095726Z
UID:2845-1769713200-1769718600@weiterbildungsforum-ehrenamt.de
SUMMARY:Aufgaben verwalten - Teams\, Planner\, ToDo
DESCRIPTION:Wann\n			\n				\n				\n				\n				\n				29.01.202619:00 – 20:30 Uhr\n			\n			\n				\n				\n				\n				\n				\n				\n				\n				\n				\n				Wo\n			\n				\n				\n				\n				\n				Online-Seminar über Zoom\n			\n			\n				\n				\n				\n				\n			\n				\n				\n				\n				\n				\n				\n				\n				\n				\n				\n				Referent\n			\n				\n				\n				\n				\n				Dr. Michael Beithe \n			\n				\n				\n				\n				\n				www.weiterbildungsforum-ehrenamt.de \n0176 13 71 42 55 \n			\n			\n				\n				\n				\n				\n			\n				\n				\n				\n				\n				\n				\n				\n				\n				\n				\n				MS Teams ist nicht nur eine Videoplattform. Es ermöglicht auch eine inhaltliche Zusammenarbeit\, indem in Arbeitsgruppen gemeinsam Apps genutzt werden und man sich zu Teilprojekten auszutauschen kann\, unabhängig von geplanten Sitzungen. Das Seminar stellt einige Instrumente der Zusammenarbeit vor: Im ‚SharePoint‘ können Dateien von Arbeitsgruppen effektiv verwaltet werden. Der ‚Planner‘ ermöglicht es\, die Aufgabenteilung zu organisieren. Wer tut was\, bis wann\, wie weit sind diese Aufgaben erledigt\, welche Aspekte sind davon betroffen\, …? ‚ToDo‘ sorgt dafür\, den Tagesablauf zu planen\, im Überblick zu behalten\, welche Aufgaben für den jeweiligen Tag anstehen. \n			\n				Zur Anmeldung
URL:https://weiterbildungsforum-ehrenamt.de/event/aufgaben-verwalten-teams-planner-todo/
LOCATION:virtual
CATEGORIES:Digitale Kompetenzen,Management und Organisation,Online
ATTACH;FMTTYPE=image/jpeg:https://weiterbildungsforum-ehrenamt.de/wp-content/uploads/2024/06/digital-marketing-1725340_1920.jpg
END:VEVENT
END:VCALENDAR