BEGIN:VCALENDAR
VERSION:2.0
PRODID:-//Weiterbildung Ehrenamt - ECPv6.15.18//NONSGML v1.0//EN
CALSCALE:GREGORIAN
METHOD:PUBLISH
X-ORIGINAL-URL:https://weiterbildungsforum-ehrenamt.de
X-WR-CALDESC:Veranstaltungen für Weiterbildung Ehrenamt
REFRESH-INTERVAL;VALUE=DURATION:PT1H
X-Robots-Tag:noindex
X-PUBLISHED-TTL:PT1H
BEGIN:VTIMEZONE
TZID:Europe/Berlin
BEGIN:DAYLIGHT
TZOFFSETFROM:+0100
TZOFFSETTO:+0200
TZNAME:CEST
DTSTART:20250330T010000
END:DAYLIGHT
BEGIN:STANDARD
TZOFFSETFROM:+0200
TZOFFSETTO:+0100
TZNAME:CET
DTSTART:20251026T010000
END:STANDARD
BEGIN:DAYLIGHT
TZOFFSETFROM:+0100
TZOFFSETTO:+0200
TZNAME:CEST
DTSTART:20260329T010000
END:DAYLIGHT
BEGIN:STANDARD
TZOFFSETFROM:+0200
TZOFFSETTO:+0100
TZNAME:CET
DTSTART:20261025T010000
END:STANDARD
BEGIN:DAYLIGHT
TZOFFSETFROM:+0100
TZOFFSETTO:+0200
TZNAME:CEST
DTSTART:20270328T010000
END:DAYLIGHT
BEGIN:STANDARD
TZOFFSETFROM:+0200
TZOFFSETTO:+0100
TZNAME:CET
DTSTART:20271031T010000
END:STANDARD
END:VTIMEZONE
BEGIN:VEVENT
DTSTART;TZID=Europe/Berlin:20260127T153000
DTEND;TZID=Europe/Berlin:20260127T183000
DTSTAMP:20260419T174032
CREATED:20260120T102119Z
LAST-MODIFIED:20260120T150010Z
UID:2917-1769527800-1769538600@weiterbildungsforum-ehrenamt.de
SUMMARY:Patientenverfügung und Vorsorgevollmacht
DESCRIPTION:Weiterbildung für ehrenamtliche Seniorenhelfer\n			\n			\n				\n				\n				\n				\n			\n				\n				\n				\n				\n				\n				\n				\n				\n				\n				\n				Wann\n			\n				\n				\n				\n				\n				27.01.202615:30 – 18:30 Uhr\n			\n			\n				\n				\n				\n				\n				\n				\n				\n				\n				\n				Wo\n			\n				\n				\n				\n				\n				Online-Seminar über Zoom\n			\n			\n				\n				\n				\n				\n			\n				\n				\n				\n				\n				\n				\n				\n				\n				\n				\n				Referentin\n			\n				\n				\n				\n				\n				Karina Handel \n			\n				\n				\n				\n				\n				https://weiterbildungsforum-ehrenamt.de/ \n0176 13 71 42 55 \n			\n			\n				\n				\n				\n				\n			\n				\n				\n				\n				\n				\n				\n				\n				\n				\n				\n				Dieses Präsenzseminar richtet sich an alle Seniorenhelfer:innen\, die ältere Menschen in zahlreichen Lebensbereichen unterstützen – auch dann\, wenn es um wichtige Fragen zur Vorsorge im Krankheits- oder Pflegefall geht. Das Seminar vermittelt\, was eine Patientenverfügung ist\, wann sie greift und welche medizinischen Entscheidungen darin geregelt werden können. Außerdem lernen Sie\, wofür eine Vorsorgevollmacht benötigt wird\, wer als Bevollmächtigter infrage kommt und welche Rechte damit verbunden sind. \nSie erhalten praktische Tipps zur rechtssicheren und individuellen Gestaltung der Dokumente sowie zur Aufbewahrung und Aktualisierung. Das Seminar bietet Ihnen wertvolle Impulse für Ihre tägliche Arbeit in der Begleitung und Beratung älterer Menschen. \n			\n				Zur Anmeldung
URL:https://weiterbildungsforum-ehrenamt.de/event/patientenverfuegung-und-vorsorgevollmacht-weiterbildung-fuer-ehrenamtliche-seniorenhelfer/
LOCATION:„Regenbogen“ Familienzentrum e. V.\, Poststraße 13\, Freital\, 01705
CATEGORIES:Soziale Kompetenzen,Vor Ort
ATTACH;FMTTYPE=image/jpeg:https://weiterbildungsforum-ehrenamt.de/wp-content/uploads/2025/07/hands-4344711_1920.jpg
ORGANIZER;CN="Aktion Zivilcourage e. V.":MAILTO:weiterbildung-ehrenamt@aktion-zivilcourage.de
END:VEVENT
END:VCALENDAR